BEGIN:VCALENDAR
PRODID:NingEventWidget-v1
VERSION:2.0
METHOD:PUBLISH
BEGIN:VEVENT
UID:4945453:Event:30716
DTSTAMP:20260422T143434Z
SUMMARY:JCCS
DESCRIPTION:Check out this event! We will be there with our cars and h
 ope to see you there.\n\nFor more information visit http://www.jerdeve
 lopment.com/events/jccs
DTSTART:20130928T160000Z
DTEND:20130928T220000Z
CATEGORIES:japanese, classic, car, show
LOCATION:Queen Mary, long Beach, CA
WEBSITE:http://www.japaneseclassiccarshow.com/
URL:http://www.japaneseclassiccarshow.com/
CONTACT:
ORGANIZER;CN="JER Development":http://www.jerdevelopment.com/profile/M
 JER
ATTACH;FMTTYPE="image/jpeg":http://storage.ning.com/topology/rest/1.0/
 file/get/3056488425?profile=original
ATTENDEE;ROLE=REQ-PARTICIPANT;PARTSTAT=ACCEPTED;RSVP=TRUE;CN=Juan:http
 ://www.jerdevelopment.com/profile/Juan
ATTENDEE;ROLE=REQ-PARTICIPANT;PARTSTAT=ACCEPTED;RSVP=TRUE;CN="Nismo Kn
 ight":http://www.jerdevelopment.com/profile/AndrewSilveroli
ATTENDEE;ROLE=REQ-PARTICIPANT;PARTSTAT=ACCEPTED;RSVP=TRUE;CN="Jerry Hi
 rshman":http://www.jerdevelopment.com/profile/JerryHirshman
ATTENDEE;ROLE=REQ-PARTICIPANT;PARTSTAT=ACCEPTED;RSVP=TRUE;CN="JER Deve
 lopment":http://www.jerdevelopment.com/profile/MJER
END:VEVENT
END:VCALENDAR
