BEGIN:VCALENDAR
PRODID:NingEventWidget-v1
VERSION:2.0
METHOD:PUBLISH
BEGIN:VEVENT
UID:4945453:Event:23003
DTSTAMP:20260422T155516Z
SUMMARY:Nismolism Website Launch Meet
DESCRIPTION:This is a meet to celebrate the launch of Nismolism.com. A
 ll cars are welcome but only the first 100 Nissans, Infinitis, and Dat
 suns will be parking in the lot.This is not the main event, this is ju
 st a meet. We will have music and food and a good time. Food will be 
 handled by Attack of the killer carnitas. So bring your hungry.http://
 www.facebook.com/attackillercarnYou all know the deal. no Burnouts, d
 rifting, stupid stuff, etc.http://www.nismolism.com/\n\nFor more infor
 mation visit http://www.jerdevelopment.com/events/nismolism-website-la
 unch-meet
DTSTART:20120519T170000Z
DTEND:20120519T230000Z
CATEGORIES:meet, launch
LOCATION:Sonic Motor
WEBSITE:http://www.nismolism.com
URL:http://www.nismolism.com
CONTACT:
ORGANIZER:Nismolism
ATTACH;FMTTYPE="image/jpeg":http://storage.ning.com/topology/rest/1.0/
 file/get/3056488358?profile=original
ATTENDEE;ROLE=REQ-PARTICIPANT;PARTSTAT=ACCEPTED;RSVP=TRUE;CN="JER Deve
 lopment":http://www.jerdevelopment.com/profile/MJER
END:VEVENT
END:VCALENDAR
