BEGIN:VCALENDAR
PRODID:NingEventWidget-v1
VERSION:2.0
METHOD:PUBLISH
BEGIN:VEVENT
UID:4945453:Event:30833
DTSTAMP:20260422T143327Z
SUMMARY:SpoCom
DESCRIPTION:Auto show complements sports-car displays with fashion, mu
 sic, and art throughout the 1.6 million sq. ft. Anaheim Convention Cen
 ter\n\nFor more information visit http://www.jerdevelopment.com/events
 /spocom
DTSTART:20130713T230000Z
DTEND:20130714T050000Z
CATEGORIES:car, show, exhibit
LOCATION:Anaheim Convetion Center
WEBSITE:http://spocomusa.com/
URL:http://spocomusa.com/
CONTACT:
ORGANIZER;CN="JER Development":http://www.jerdevelopment.com/profile/M
 JER
ATTACH;FMTTYPE="image/jpeg":http://storage.ning.com/topology/rest/1.0/
 file/get/3056488460?profile=original
ATTENDEE;ROLE=REQ-PARTICIPANT;PARTSTAT=ACCEPTED;RSVP=TRUE;CN="JER Deve
 lopment":http://www.jerdevelopment.com/profile/MJER
END:VEVENT
END:VCALENDAR
